Package: BioTIP Version: 1.21.0 Command: /Library/Frameworks/R.framework/Resources/bin/R CMD INSTALL BioTIP StartedAt: 2025-02-09 15:41:40 -0500 (Sun, 09 Feb 2025) EndedAt: 2025-02-09 15:41:58 -0500 (Sun, 09 Feb 2025) EllapsedTime: 17.7 seconds RetCode: 0 Status: OK