Package: BioTIP Version: 1.21.0 Command: /home/biocbuild/bbs-3.21-bioc/R/bin/R CMD build --keep-empty-dirs --no-resave-data BioTIP StartedAt: 2025-02-09 16:25:12 -0500 (Sun, 09 Feb 2025) EndedAt: 2025-02-09 16:26:40 -0500 (Sun, 09 Feb 2025) EllapsedTime: 88.1 seconds RetCode: 0 Status: OK PackageFile: BioTIP_1.21.0.tar.gz PackageFileSize: 41.35 MiB