Package: BioTIP Version: 1.21.0 Command: /home/biocbuild/bbs-3.21-bioc/R/bin/R CMD check --install=check:BioTIP.install-out.txt --library=/home/biocbuild/bbs-3.21-bioc/R/site-library --timings BioTIP_1.21.0.tar.gz StartedAt: 2025-02-09 20:28:28 -0500 (Sun, 09 Feb 2025) EndedAt: 2025-02-09 20:31:18 -0500 (Sun, 09 Feb 2025) EllapsedTime: 170.3 seconds RetCode: 0 Status: WARNINGS CheckDir: BioTIP.Rcheck Warnings: 2