Package: BioTIP Version: 1.21.0 Command: chmod a+r BioTIP -R && E:\biocbuild\bbs-3.21-bioc\R\bin\R.exe CMD build --keep-empty-dirs --no-resave-data BioTIP StartedAt: 2025-02-09 17:32:10 -0500 (Sun, 09 Feb 2025) EndedAt: 2025-02-09 17:35:12 -0500 (Sun, 09 Feb 2025) EllapsedTime: 182.1 seconds RetCode: 0 Status: OK PackageFile: BioTIP_1.21.0.tar.gz PackageFileSize: 40.44 MiB