Package: BioTIP Version: 1.21.0 Command: E:\biocbuild\bbs-3.21-bioc\R\bin\R.exe CMD check --no-multiarch --install=check:BioTIP.install-out.txt --library=E:\biocbuild\bbs-3.21-bioc\R\library --no-vignettes --timings BioTIP_1.21.0.tar.gz StartedAt: 2025-02-09 23:07:44 -0500 (Sun, 09 Feb 2025) EndedAt: 2025-02-09 23:10:54 -0500 (Sun, 09 Feb 2025) EllapsedTime: 189.9 seconds RetCode: 0 Status: WARNINGS CheckDir: BioTIP.Rcheck Warnings: 2