Package: BioTIP Version: 1.21.0 Command: E:\biocbuild\bbs-3.21-bioc\R\bin\R.exe CMD INSTALL BioTIP StartedAt: 2025-02-09 16:31:47 -0500 (Sun, 09 Feb 2025) EndedAt: 2025-02-09 16:32:11 -0500 (Sun, 09 Feb 2025) EllapsedTime: 24.5 seconds RetCode: 0 Status: OK