Package: Biobase Version: 2.67.0 Command: rm -rf Biobase.buildbin-libdir && mkdir Biobase.buildbin-libdir && /Users/biocbuild/BBS/utils/build-universal.sh Biobase_2.67.0.tar.gz /Library/Frameworks/R.framework/Resources/bin/R Biobase.buildbin-libdir StartedAt: 2025-02-09 22:07:11 -0500 (Sun, 09 Feb 2025) EndedAt: 2025-02-09 22:07:17 -0500 (Sun, 09 Feb 2025) EllapsedTime: 6.2 seconds RetCode: 0 Status: OK PackageFile: Biobase_2.67.0.tgz PackageFileSize: 2.517 MiB