Package: Biobase Version: 2.67.0 Command: /Library/Frameworks/R.framework/Resources/bin/R CMD check --install=check:Biobase.install-out.txt --library=/Library/Frameworks/R.framework/Resources/library --no-vignettes --timings Biobase_2.67.0.tar.gz StartedAt: 2025-02-09 18:13:44 -0500 (Sun, 09 Feb 2025) EndedAt: 2025-02-09 18:14:16 -0500 (Sun, 09 Feb 2025) EllapsedTime: 32.4 seconds RetCode: 0 Status: OK CheckDir: Biobase.Rcheck Warnings: 0