Package: Biobase Version: 2.67.0 Command: /home/biocbuild/R/R/bin/R CMD build --keep-empty-dirs --no-resave-data Biobase StartedAt: 2025-01-29 21:12:35 -0000 (Wed, 29 Jan 2025) EndedAt: 2025-01-29 21:12:57 -0000 (Wed, 29 Jan 2025) EllapsedTime: 22.0 seconds RetCode: 0 Status: OK PackageFile: Biobase_2.67.0.tar.gz PackageFileSize: 1.933 MiB