Package: Biobase Version: 2.67.0 Command: /Library/Frameworks/R.framework/Resources/bin/R CMD build --keep-empty-dirs --no-resave-data Biobase StartedAt: 2025-02-09 16:01:44 -0500 (Sun, 09 Feb 2025) EndedAt: 2025-02-09 16:02:10 -0500 (Sun, 09 Feb 2025) EllapsedTime: 26.2 seconds RetCode: 0 Status: OK PackageFile: Biobase_2.67.0.tar.gz PackageFileSize: 1.886 MiB