Package: Biobase Version: 2.67.0 Command: /Library/Frameworks/R.framework/Resources/bin/R CMD check --install=check:Biobase.install-out.txt --library=/Library/Frameworks/R.framework/Resources/library --no-vignettes --timings Biobase_2.67.0.tar.gz StartedAt: 2025-02-09 19:17:12 -0500 (Sun, 09 Feb 2025) EndedAt: 2025-02-09 19:18:50 -0500 (Sun, 09 Feb 2025) EllapsedTime: 97.6 seconds RetCode: 0 Status: OK CheckDir: Biobase.Rcheck Warnings: 0