Package: Biobase Version: 2.67.0 Command: /home/biocbuild/bbs-3.21-bioc/R/bin/R CMD build --keep-empty-dirs --no-resave-data Biobase StartedAt: 2025-02-09 16:21:02 -0500 (Sun, 09 Feb 2025) EndedAt: 2025-02-09 16:21:18 -0500 (Sun, 09 Feb 2025) EllapsedTime: 16.0 seconds RetCode: 0 Status: OK PackageFile: Biobase_2.67.0.tar.gz PackageFileSize: 1.886 MiB