Package: Biobase Version: 2.67.0 Command: /home/biocbuild/bbs-3.21-bioc/R/bin/R CMD check --install=check:Biobase.install-out.txt --library=/home/biocbuild/bbs-3.21-bioc/R/site-library --timings Biobase_2.67.0.tar.gz StartedAt: 2025-02-09 20:21:40 -0500 (Sun, 09 Feb 2025) EndedAt: 2025-02-09 20:22:59 -0500 (Sun, 09 Feb 2025) EllapsedTime: 79.1 seconds RetCode: 0 Status: OK CheckDir: Biobase.Rcheck Warnings: 0