Package: Biobase Version: 2.67.0 Command: rm -rf Biobase.buildbin-libdir && mkdir Biobase.buildbin-libdir && E:\biocbuild\bbs-3.21-bioc\R\bin\R.exe CMD INSTALL --build --library=Biobase.buildbin-libdir Biobase_2.67.0.tar.gz StartedAt: 2025-02-10 07:17:07 -0500 (Mon, 10 Feb 2025) EndedAt: 2025-02-10 07:19:20 -0500 (Mon, 10 Feb 2025) EllapsedTime: 132.2 seconds RetCode: 0 Status: OK PackageFile: Biobase_2.67.0.zip PackageFileSize: 2.364 MiB