Package: Biobase Version: 2.67.0 Command: chmod a+r Biobase -R && E:\biocbuild\bbs-3.21-bioc\R\bin\R.exe CMD build --keep-empty-dirs --no-resave-data Biobase StartedAt: 2025-02-09 17:26:38 -0500 (Sun, 09 Feb 2025) EndedAt: 2025-02-09 17:27:42 -0500 (Sun, 09 Feb 2025) EllapsedTime: 63.9 seconds RetCode: 0 Status: OK PackageFile: Biobase_2.67.0.tar.gz PackageFileSize: 1.715 MiB