Package: Biobase Version: 2.67.0 Command: E:\biocbuild\bbs-3.21-bioc\R\bin\R.exe CMD check --no-multiarch --install=check:Biobase.install-out.txt --library=E:\biocbuild\bbs-3.21-bioc\R\library --no-vignettes --timings Biobase_2.67.0.tar.gz StartedAt: 2025-02-09 22:56:37 -0500 (Sun, 09 Feb 2025) EndedAt: 2025-02-09 22:58:31 -0500 (Sun, 09 Feb 2025) EllapsedTime: 114.6 seconds RetCode: 0 Status: OK CheckDir: Biobase.Rcheck Warnings: 0