Package: Biobase Version: 2.67.0 Command: E:\biocbuild\bbs-3.21-bioc\R\bin\R.exe CMD INSTALL Biobase StartedAt: 2025-02-09 15:21:26 -0500 (Sun, 09 Feb 2025) EndedAt: 2025-02-09 15:22:56 -0500 (Sun, 09 Feb 2025) EllapsedTime: 89.4 seconds RetCode: 0 Status: OK