Package: BiocBaseUtils Version: 1.9.0 Command: /home/biocbuild/R/R/bin/R CMD check --install=check:BiocBaseUtils.install-out.txt --library=/home/biocbuild/R/R/site-library --no-vignettes --timings BiocBaseUtils_1.9.0.tar.gz StartedAt: 2025-01-28 03:52:36 -0000 (Tue, 28 Jan 2025) EndedAt: 2025-01-28 03:52:56 -0000 (Tue, 28 Jan 2025) EllapsedTime: 20.1 seconds RetCode: 0 Status: OK CheckDir: BiocBaseUtils.Rcheck Warnings: 0