Package: BiocBaseUtils Version: 1.9.0 Command: /home/biocbuild/R/R/bin/R CMD INSTALL BiocBaseUtils StartedAt: 2025-01-29 19:30:14 -0000 (Wed, 29 Jan 2025) EndedAt: 2025-01-29 19:30:44 -0000 (Wed, 29 Jan 2025) EllapsedTime: 29.2 seconds RetCode: 0 Status: OK