Package: BiocBaseUtils Version: 1.9.0 Command: /Library/Frameworks/R.framework/Resources/bin/R CMD INSTALL BiocBaseUtils StartedAt: 2025-02-09 15:03:50 -0500 (Sun, 09 Feb 2025) EndedAt: 2025-02-09 15:04:25 -0500 (Sun, 09 Feb 2025) EllapsedTime: 35.0 seconds RetCode: 0 Status: OK