Package: BiocBaseUtils Version: 1.9.0 Command: /home/biocbuild/bbs-3.21-bioc/R/bin/R CMD check --install=check:BiocBaseUtils.install-out.txt --library=/home/biocbuild/bbs-3.21-bioc/R/site-library --timings BiocBaseUtils_1.9.0.tar.gz StartedAt: 2025-02-09 20:22:40 -0500 (Sun, 09 Feb 2025) EndedAt: 2025-02-09 20:22:59 -0500 (Sun, 09 Feb 2025) EllapsedTime: 19.0 seconds RetCode: 0 Status: OK CheckDir: BiocBaseUtils.Rcheck Warnings: 0