Package: BiocBaseUtils Version: 1.9.0 Command: /home/biocbuild/bbs-3.21-bioc/R/bin/R CMD INSTALL BiocBaseUtils StartedAt: 2025-02-09 15:03:07 -0500 (Sun, 09 Feb 2025) EndedAt: 2025-02-09 15:03:18 -0500 (Sun, 09 Feb 2025) EllapsedTime: 11.0 seconds RetCode: 0 Status: OK