Package: BiocBaseUtils Version: 1.9.0 Command: rm -rf BiocBaseUtils.buildbin-libdir && mkdir BiocBaseUtils.buildbin-libdir && E:\biocbuild\bbs-3.21-bioc\R\bin\R.exe CMD INSTALL --build --library=BiocBaseUtils.buildbin-libdir BiocBaseUtils_1.9.0.tar.gz StartedAt: 2025-02-13 07:28:56 -0500 (Thu, 13 Feb 2025) EndedAt: 2025-02-13 07:29:26 -0500 (Thu, 13 Feb 2025) EllapsedTime: 29.6 seconds RetCode: 0 Status: OK PackageFile: BiocBaseUtils_1.9.0.zip PackageFileSize: 255.7 KiB