Package: BiocBaseUtils Version: 1.9.0 Command: chmod a+r BiocBaseUtils -R && E:\biocbuild\bbs-3.21-bioc\R\bin\R.exe CMD build --keep-empty-dirs --no-resave-data BiocBaseUtils StartedAt: 2025-02-09 17:27:51 -0500 (Sun, 09 Feb 2025) EndedAt: 2025-02-09 17:28:12 -0500 (Sun, 09 Feb 2025) EllapsedTime: 21.7 seconds RetCode: 0 Status: OK PackageFile: BiocBaseUtils_1.9.0.tar.gz PackageFileSize: 226.3 KiB