Package: BiocBaseUtils Version: 1.9.0 Command: E:\biocbuild\bbs-3.21-bioc\R\bin\R.exe CMD check --no-multiarch --install=check:BiocBaseUtils.install-out.txt --library=E:\biocbuild\bbs-3.21-bioc\R\library --no-vignettes --timings BiocBaseUtils_1.9.0.tar.gz StartedAt: 2025-02-09 22:58:33 -0500 (Sun, 09 Feb 2025) EndedAt: 2025-02-09 22:59:05 -0500 (Sun, 09 Feb 2025) EllapsedTime: 31.4 seconds RetCode: 0 Status: OK CheckDir: BiocBaseUtils.Rcheck Warnings: 0