Package: BiocBook Version: 1.5.0 Command: rm -rf BiocBook.buildbin-libdir && mkdir BiocBook.buildbin-libdir && /Users/biocbuild/BBS/utils/build-universal.sh BiocBook_1.5.0.tar.gz /Library/Frameworks/R.framework/Resources/bin/R BiocBook.buildbin-libdir StartedAt: 2025-02-09 22:07:15 -0500 (Sun, 09 Feb 2025) EndedAt: 2025-02-09 22:07:18 -0500 (Sun, 09 Feb 2025) EllapsedTime: 3.1 seconds RetCode: 0 Status: OK PackageFile: BiocBook_1.5.0.tgz PackageFileSize: 1.027 MiB