Package: BiocBook Version: 1.5.0 Command: /Library/Frameworks/R.framework/Resources/bin/R CMD check --install=check:BiocBook.install-out.txt --library=/Library/Frameworks/R.framework/Resources/library --no-vignettes --timings BiocBook_1.5.0.tar.gz StartedAt: 2025-02-09 18:14:27 -0500 (Sun, 09 Feb 2025) EndedAt: 2025-02-09 18:16:26 -0500 (Sun, 09 Feb 2025) EllapsedTime: 118.4 seconds RetCode: 0 Status: OK CheckDir: BiocBook.Rcheck Warnings: 0