Package: BiocBook Version: 1.5.0 Command: /Library/Frameworks/R.framework/Resources/bin/R CMD INSTALL BiocBook StartedAt: 2025-02-09 15:15:02 -0500 (Sun, 09 Feb 2025) EndedAt: 2025-02-09 15:15:05 -0500 (Sun, 09 Feb 2025) EllapsedTime: 2.4 seconds RetCode: 0 Status: OK