Package: BiocBook Version: 1.5.0 Command: /home/biocbuild/R/R/bin/R CMD check --install=check:BiocBook.install-out.txt --library=/home/biocbuild/R/R/site-library --no-vignettes --timings BiocBook_1.5.0.tar.gz StartedAt: 2025-01-28 03:52:40 -0000 (Tue, 28 Jan 2025) EndedAt: 2025-01-28 03:55:00 -0000 (Tue, 28 Jan 2025) EllapsedTime: 139.3 seconds RetCode: 0 Status: OK CheckDir: BiocBook.Rcheck Warnings: 0