Package: BiocBook Version: 1.5.0 Command: /home/biocbuild/R/R/bin/R CMD INSTALL BiocBook StartedAt: 2025-01-29 20:05:09 -0000 (Wed, 29 Jan 2025) EndedAt: 2025-01-29 20:05:17 -0000 (Wed, 29 Jan 2025) EllapsedTime: 7.5 seconds RetCode: 0 Status: OK