Package: BiocBook Version: 1.5.0 Command: rm -rf BiocBook.buildbin-libdir && mkdir BiocBook.buildbin-libdir && /Users/biocbuild/BBS/utils/build-universal.sh BiocBook_1.5.0.tar.gz /Library/Frameworks/R.framework/Resources/bin/R BiocBook.buildbin-libdir StartedAt: 2025-02-10 00:43:42 -0500 (Mon, 10 Feb 2025) EndedAt: 2025-02-10 00:43:55 -0500 (Mon, 10 Feb 2025) EllapsedTime: 12.8 seconds RetCode: 0 Status: OK PackageFile: BiocBook_1.5.0.tgz PackageFileSize: 1.027 MiB