Package: BiocBook Version: 1.5.0 Command: /home/biocbuild/bbs-3.21-bioc/R/bin/R CMD build --keep-empty-dirs --no-resave-data BiocBook StartedAt: 2025-02-09 16:21:31 -0500 (Sun, 09 Feb 2025) EndedAt: 2025-02-09 16:22:09 -0500 (Sun, 09 Feb 2025) EllapsedTime: 38.0 seconds RetCode: 0 Status: OK PackageFile: BiocBook_1.5.0.tar.gz PackageFileSize: 902.9 KiB