Package: BiocBook Version: 1.5.0 Command: /home/biocbuild/bbs-3.21-bioc/R/bin/R CMD INSTALL BiocBook StartedAt: 2025-02-09 15:11:49 -0500 (Sun, 09 Feb 2025) EndedAt: 2025-02-09 15:11:55 -0500 (Sun, 09 Feb 2025) EllapsedTime: 5.5 seconds RetCode: 0 Status: OK