Package: BiocBook Version: 1.5.0 Command: rm -rf BiocBook.buildbin-libdir && mkdir BiocBook.buildbin-libdir && E:\biocbuild\bbs-3.21-bioc\R\bin\R.exe CMD INSTALL --build --library=BiocBook.buildbin-libdir BiocBook_1.5.0.tar.gz StartedAt: 2025-02-10 07:17:22 -0500 (Mon, 10 Feb 2025) EndedAt: 2025-02-10 07:17:56 -0500 (Mon, 10 Feb 2025) EllapsedTime: 34.0 seconds RetCode: 0 Status: OK PackageFile: BiocBook_1.5.0.zip PackageFileSize: 1.033 MiB