Package: BiocBook Version: 1.5.0 Command: chmod a+r BiocBook -R && E:\biocbuild\bbs-3.21-bioc\R\bin\R.exe CMD build --keep-empty-dirs --no-resave-data BiocBook StartedAt: 2025-02-09 17:27:52 -0500 (Sun, 09 Feb 2025) EndedAt: 2025-02-09 17:28:57 -0500 (Sun, 09 Feb 2025) EllapsedTime: 64.7 seconds RetCode: 0 Status: OK PackageFile: BiocBook_1.5.0.tar.gz PackageFileSize: 902.9 KiB