Package: BiocCheck Version: 1.43.4 Command: /Library/Frameworks/R.framework/Resources/bin/R CMD check --install=check:BiocCheck.install-out.txt --library=/Library/Frameworks/R.framework/Resources/library --no-vignettes --timings BiocCheck_1.43.4.tar.gz StartedAt: 2025-02-09 18:14:28 -0500 (Sun, 09 Feb 2025) EndedAt: 2025-02-09 18:16:11 -0500 (Sun, 09 Feb 2025) EllapsedTime: 103.2 seconds RetCode: 0 Status: OK CheckDir: BiocCheck.Rcheck Warnings: 0