Package: BiocCheck Version: 1.43.4 Command: /Library/Frameworks/R.framework/Resources/bin/R CMD INSTALL BiocCheck StartedAt: 2025-02-09 15:07:13 -0500 (Sun, 09 Feb 2025) EndedAt: 2025-02-09 15:07:17 -0500 (Sun, 09 Feb 2025) EllapsedTime: 4.5 seconds RetCode: 0 Status: OK