Package: BiocCheck Version: 1.43.4 Command: rm -rf BiocCheck.buildbin-libdir && mkdir BiocCheck.buildbin-libdir && /Users/biocbuild/BBS/utils/build-universal.sh BiocCheck_1.43.4.tar.gz /Library/Frameworks/R.framework/Resources/bin/R BiocCheck.buildbin-libdir StartedAt: 2025-02-10 00:43:43 -0500 (Mon, 10 Feb 2025) EndedAt: 2025-02-10 00:44:02 -0500 (Mon, 10 Feb 2025) EllapsedTime: 18.6 seconds RetCode: 0 Status: OK PackageFile: BiocCheck_1.43.4.tgz PackageFileSize: 640.1 KiB