Package: BiocCheck Version: 1.43.4 Command: /Library/Frameworks/R.framework/Resources/bin/R CMD build --keep-empty-dirs --no-resave-data BiocCheck StartedAt: 2025-02-09 16:02:24 -0500 (Sun, 09 Feb 2025) EndedAt: 2025-02-09 16:02:43 -0500 (Sun, 09 Feb 2025) EllapsedTime: 19.4 seconds RetCode: 0 Status: OK PackageFile: BiocCheck_1.43.4.tar.gz PackageFileSize: 307.6 KiB