Package: BiocCheck Version: 1.43.4 Command: /Library/Frameworks/R.framework/Resources/bin/R CMD check --install=check:BiocCheck.install-out.txt --library=/Library/Frameworks/R.framework/Resources/library --no-vignettes --timings BiocCheck_1.43.4.tar.gz StartedAt: 2025-02-09 19:18:20 -0500 (Sun, 09 Feb 2025) EndedAt: 2025-02-09 19:22:50 -0500 (Sun, 09 Feb 2025) EllapsedTime: 270.3 seconds RetCode: 0 Status: OK CheckDir: BiocCheck.Rcheck Warnings: 0