Package: BiocCheck Version: 1.43.4 Command: /Library/Frameworks/R.framework/Resources/bin/R CMD INSTALL BiocCheck StartedAt: 2025-02-09 15:13:30 -0500 (Sun, 09 Feb 2025) EndedAt: 2025-02-09 15:13:45 -0500 (Sun, 09 Feb 2025) EllapsedTime: 14.6 seconds RetCode: 0 Status: OK