Package: BiocCheck Version: 1.43.4 Command: /home/biocbuild/bbs-3.21-bioc/R/bin/R CMD build --keep-empty-dirs --no-resave-data BiocCheck StartedAt: 2025-02-09 16:21:32 -0500 (Sun, 09 Feb 2025) EndedAt: 2025-02-09 16:21:46 -0500 (Sun, 09 Feb 2025) EllapsedTime: 14.0 seconds RetCode: 0 Status: OK PackageFile: BiocCheck_1.43.4.tar.gz PackageFileSize: 307.7 KiB