Package: BiocCheck Version: 1.43.4 Command: /home/biocbuild/bbs-3.21-bioc/R/bin/R CMD INSTALL BiocCheck StartedAt: 2025-02-09 15:14:02 -0500 (Sun, 09 Feb 2025) EndedAt: 2025-02-09 15:14:12 -0500 (Sun, 09 Feb 2025) EllapsedTime: 9.8 seconds RetCode: 0 Status: OK