Package: BiocCheck Version: 1.43.4 Command: chmod a+r BiocCheck -R && E:\biocbuild\bbs-3.21-bioc\R\bin\R.exe CMD build --keep-empty-dirs --no-resave-data BiocCheck StartedAt: 2025-02-09 17:28:07 -0500 (Sun, 09 Feb 2025) EndedAt: 2025-02-09 17:28:49 -0500 (Sun, 09 Feb 2025) EllapsedTime: 42.2 seconds RetCode: 0 Status: OK PackageFile: BiocCheck_1.43.4.tar.gz PackageFileSize: 307.8 KiB