Package: BiocFileCache Version: 2.15.1 Command: /Library/Frameworks/R.framework/Resources/bin/R CMD INSTALL BiocFileCache StartedAt: 2025-02-09 15:07:03 -0500 (Sun, 09 Feb 2025) EndedAt: 2025-02-09 15:07:07 -0500 (Sun, 09 Feb 2025) EllapsedTime: 3.1 seconds RetCode: 0 Status: OK