Package: BiocFileCache Version: 2.15.1 Command: /home/biocbuild/R/R/bin/R CMD INSTALL BiocFileCache StartedAt: 2025-01-29 19:44:14 -0000 (Wed, 29 Jan 2025) EndedAt: 2025-01-29 19:44:24 -0000 (Wed, 29 Jan 2025) EllapsedTime: 9.4 seconds RetCode: 0 Status: OK