Package: BiocFileCache Version: 2.15.1 Command: rm -rf BiocFileCache.buildbin-libdir && mkdir BiocFileCache.buildbin-libdir && /Users/biocbuild/BBS/utils/build-universal.sh BiocFileCache_2.15.1.tar.gz /Library/Frameworks/R.framework/Resources/bin/R BiocFileCache.buildbin-libdir StartedAt: 2025-02-10 00:43:45 -0500 (Mon, 10 Feb 2025) EndedAt: 2025-02-10 00:43:58 -0500 (Mon, 10 Feb 2025) EllapsedTime: 12.8 seconds RetCode: 0 Status: OK PackageFile: BiocFileCache_2.15.1.tgz PackageFileSize: 944 KiB