Package: BiocFileCache Version: 2.15.1 Command: /Library/Frameworks/R.framework/Resources/bin/R CMD check --install=check:BiocFileCache.install-out.txt --library=/Library/Frameworks/R.framework/Resources/library --no-vignettes --timings BiocFileCache_2.15.1.tar.gz StartedAt: 2025-02-09 19:18:29 -0500 (Sun, 09 Feb 2025) EndedAt: 2025-02-09 19:20:07 -0500 (Sun, 09 Feb 2025) EllapsedTime: 98.2 seconds RetCode: 0 Status: OK CheckDir: BiocFileCache.Rcheck Warnings: 0