Package: BiocFileCache Version: 2.15.1 Command: /Library/Frameworks/R.framework/Resources/bin/R CMD INSTALL BiocFileCache StartedAt: 2025-02-12 15:12:33 -0500 (Wed, 12 Feb 2025) EndedAt: 2025-02-12 15:12:44 -0500 (Wed, 12 Feb 2025) EllapsedTime: 10.7 seconds RetCode: 0 Status: OK