Package: BiocFileCache Version: 2.15.1 Command: /home/biocbuild/bbs-3.21-bioc/R/bin/R CMD build --keep-empty-dirs --no-resave-data BiocFileCache StartedAt: 2025-02-09 16:22:02 -0500 (Sun, 09 Feb 2025) EndedAt: 2025-02-09 16:23:02 -0500 (Sun, 09 Feb 2025) EllapsedTime: 60.1 seconds RetCode: 0 Status: OK PackageFile: BiocFileCache_2.15.1.tar.gz PackageFileSize: 722.4 KiB